BEGIN:VCALENDAR
VERSION:2.0
PRODID:-//louisianadeltaballet.com//NONSGML kigkonsult.se iCalcreator 2.30.
 10//
CALSCALE:GREGORIAN
METHOD:PUBLISH
UID:58244cd9-e3a8-42e0-8be9-f221593b69d9
X-WR-CALDESC:Classes will be taught in Ballet technique\, pointe\, pas de d
 eux\, jazz\, contemporary and modern.
X-WR-RELCALID:52cf9d21912aaf37d12e2c8de25e1b96
X-WR-TIMEZONE:America/Chicago
BEGIN:VTIMEZONE
TZID:America/Chicago
BEGIN:STANDARD
TZNAME:CST
DTSTART:20221106T020000
TZOFFSETFROM:-0500
TZOFFSETTO:-0600
RDATE:20231105T020000
RDATE:20241103T020000
END:STANDARD
BEGIN:DAYLIGHT
TZNAME:CDT
DTSTART:20230312T020000
TZOFFSETFROM:-0600
TZOFFSETTO:-0500
RDATE:20240310T020000
END:DAYLIGHT
END:VTIMEZONE
BEGIN:VEVENT
UID:5ffc798f-4232-43de-9968-e3ed7d2f13e4
DTSTAMP:20260421T093802Z
DESCRIPTION:Classes will be taught in Ballet technique\, pointe\, pas de de
 ux\, jazz\, contemporary and modern.
DTSTART;TZID=America/Chicago:20230719T090000
DTEND;TZID=America/Chicago:20230727T090000
LOCATION:Missy Crain Studios - Monroe and Sterlington locations
SUMMARY:LDB Summer Intensive Workshop
END:VEVENT
END:VCALENDAR
